BEGIN:VCALENDAR
VERSION:2.0
PRODID:-//ChamberMaster//Event Calendar 2.0//EN
METHOD:PUBLISH
X-PUBLISHED-TTL:P3D
REFRESH-INTERVAL:P3D
CALSCALE:GREGORIAN
BEGIN:VEVENT
DTSTART:20260119T110000Z
DTEND:20260119T123000Z
X-MICROSOFT-CDO-ALLDAYEVENT:FALSE
SUMMARY:Transformational Tools to Elevate Your Life/Work - Online
DESCRIPTION:'You can't connect the dots looking forward\, you can only connect them looking backwards' - Steve Jobs\, Stanford University address\, 2005\n\n\n\nContaining the most tangible elements of Dave A. Barry's life/work speaking series\, and intentionally (whether we subscribe to the concept or not) on 'Blue Monday'\, this January 19th webinar promises to be a highly insightful\, personal and practical one.\n\n\n\nAs we approach the end of 2025\, and start looking ahead to 2026\, how are you feeling right now about the year that has been? Particularly globally and also nationally it has been a very challenging one\, but in 'serenity' mode the Winter months are truly optimal for a healthy element of both personal and professional looking back\, to keep us moving forward.\n\n\n\nTo empower same\, during this upcoming webinar Dave will cover each of the following transformational tools:\n\n\n\n- 321\, a simple but motivational life/work review model for you to look back at the year that was in a positively balanced way\n\n- Lean Six Sigma\, an informal but impactful application of this global continuous improvement methodology to life/work\, with related tangible tools to help you improve or redesign for the year ahead\n\n- The Bring-Me-Joy Scale\, a related life/work scale to continually prioritize your focus\, time and attention towards joy going forward\n\n\n\nLearning Outcomes:\n\n- A simple and motivational review model for you to look back at 2025\n\n- An informal and impactful methodology with related tangible tools to help you improve or redesign life/work for 2026\n\n- A related scale to continually prioritize your focus\, time and attention towards joy\n\n\n\nAbout the Speaker:\n\nDave A. Barry\, Chartered FCIPD   https://conexion.ie/\n\n\n\nStrategic Talent Management Expert\, Founder & Chief Connection Officer at Conexion.ie \, Speaker & MC\n\n\n\nA human resource management postgraduate of University College Cork\, subsequent to initial roles in travel and retail I joined global biopharmaceutical Eli Lilly in 1999 for thirteen years across human resources\, lean six sigma\, finance\, and three Cork sites.\n\n\n\nKeen to diversify via leading in other sectors\, I left Lilly in 2011 and following a Dublin telecoms project role joined cybersecurity leader Trend Micro in Cork in 2013 as head of HR   EMEA operations centre/Ireland and interim southern Europe.\n\n\n\nPassionate about strategic talent management and the connecting of unjoined dots to achieve it\, I left Trend in 2016 to first consult in life sciences including an HR leadership secondment to BioMarin in Cork\, prior to establishing own consultancy Conexion.ie  in 2018.\n\n\n\nIn addition to keynote series speaking on connection and life/work\, and hosting corporate\, HR or other events\, I continue to champion Cork business too.\n \n\nThis course can also be run as an in-company programme delivered on-site to meet your specific requirements. For more information on in-company delivery\, or if you have any questions regarding this course\, please Click Here.\n\n\n\nBOOK NOW
X-ALT-DESC;FMTTYPE=text/html:<div><span style="color:#000000\;"><span style="font-size:14px\;"><span style="font-family:tahoma\;"><em>&lsquo\;You can&rsquo\;t connect the dots looking forward\, you can only connect them looking backwards&rsquo\; </em>- Steve Jobs\, Stanford University address\, 2005<br />\n<br />\nContaining the most tangible elements of Dave A. Barry&rsquo\;s life/work speaking series\, and intentionally (whether we subscribe to the concept or not) on &lsquo\;Blue Monday&rsquo\;\, this January 19th webinar promises to be a highly insightful\, personal and practical one.<br />\n<br />\nAs we approach the end of 2025\, and start looking ahead to 2026\, how are you feeling right now about the year that has been? Particularly globally and also nationally it has been a very challenging one\, but in &lsquo\;serenity&rsquo\; mode the Winter months are truly optimal for a healthy element of both personal and professional looking back\, to keep us moving forward.<br />\n<br />\nTo empower same\, during this upcoming webinar Dave will cover each of the following transformational tools:<br />\n<br />\n- <strong>321\, </strong>a simple but motivational life/work review model for you to look back at the year that was in a positively balanced way<br />\n- <strong>Lean Six Sigma\,</strong> an informal but impactful application of this global continuous improvement methodology to life/work\, with related tangible tools to help you improve or redesign for the year ahead<br />\n- <strong>The Bring-Me-Joy Scale\,</strong> a related life/work scale to continually prioritize your focus\, time and attention towards joy going forward<br />\n<br />\n<strong>Learning Outcomes:<br />\n-&nbsp\;</strong>A simple and motivational review model for you to look back at 2025<br />\n- An informal and impactful methodology with related tangible tools to help you improve or redesign life/work for 2026<br />\n- A related scale to continually prioritize your focus\, time and attention towards joy<br />\n<br />\n<strong>About the Speaker:</strong><br />\nDave A. Barry\, Chartered FCIPD &ndash\; <a href="https://conexion.ie/">https://conexion.ie/</a><br />\n<br />\nStrategic Talent Management Expert\, Founder &amp\; Chief Connection Officer at Conexion.ie&reg\;\, Speaker &amp\; MC<br />\n<br />\nA human resource management postgraduate of University College Cork\, subsequent to initial roles in travel and retail I joined global biopharmaceutical Eli Lilly in 1999 for thirteen years across human resources\, lean six sigma\, finance\, and three Cork sites.<br />\n<br />\nKeen to diversify via leading in other sectors\, I left Lilly in 2011 and following a Dublin telecoms project role joined cybersecurity leader Trend Micro in Cork in 2013 as head of HR &ndash\; EMEA operations centre/Ireland and interim southern Europe.<br />\n<br />\nPassionate about strategic talent management and the connecting of unjoined dots to achieve it\, I left Trend in 2016 to first consult in life sciences including an HR leadership secondment to BioMarin in Cork\, prior to establishing own consultancy Conexion.ie&reg\; in 2018.<br />\n<br />\nIn addition to keynote series speaking on connection and life/work\, and hosting corporate\, HR or other events\, I continue to champion Cork business too.</span></span></span></div>\n&nbsp\;\n\n<div><span style="font-size:14px\;"><span style="font-family:tahoma\;"><span style="box-sizing: inherit\; font-weight: 700\; text-align: center\; background-color: rgb(255\, 255\, 255)\;"><span style="color:#000000\;">This course can also be run as an in-company programme delivered on-site to meet your specific requirements. For more information on in-company delivery\, or if you have any questions regarding this course\,&nbsp\;please&nbsp\;</span><a href="mailto:training@corkchamber.ie" style="box-sizing: inherit\; background-color: transparent\; text-decoration-thickness: 1px\; cursor: pointer\; text-underline-offset: 2px\;"><span style="color:#000000\;">Click Here.</span></a></span></span></span><br />\n<br />\n<a href="https://www.corkchamber.ie/product/transformational-tools-to-elevate-your-life-work/"><span style="color:#000000\;"><span style="font-size:14px\;"><span style="font-family:tahoma\;"><span style="font-size:16px\;"><strong>BOOK NOW</strong></span></span></span></span></a></div>\n
LOCATION:Online
UID:e.2489.36617
SEQUENCE:3
DTSTAMP:20260425T224434Z
URL:http://corkchamber.chambermaster.com/events/details/transformational-tools-to-elevate-your-life-work-online-36617
END:VEVENT

END:VCALENDAR
