BEGIN:VCALENDAR
VERSION:2.0
PRODID:-//ChamberMaster//Event Calendar 2.0//EN
METHOD:PUBLISH
X-PUBLISHED-TTL:P3D
REFRESH-INTERVAL:P3D
CALSCALE:GREGORIAN
BEGIN:VEVENT
DTSTART:20200811T120000Z
DTEND:20200811T130000Z
X-MICROSOFT-CDO-ALLDAYEVENT:FALSE
SUMMARY:Tips for Online Interviews
DESCRIPTION:Online interviewing is on the rise and it requires a different type of preparation for both interviewers and interviewees. Although it's easy to write off an online interview as the same as an in-person interview\, there are subtle differences in which to prepare.
X-ALT-DESC;FMTTYPE=text/html:<p><span style="font-size:14px\;"><span style="font-family:arial\;"><span style="color: rgb(0\, 0\, 0)\;">Online interviewing is on the rise and it requires a different type of preparation for both interviewers and interviewees. Although it&rsquo\;s easy to write off an online interview as the same as an in-person interview\, there are subtle differences in which to prepare.</span></span></span></p>\n
LOCATION:Republic of Work - Webinar
UID:e.2489.22996
SEQUENCE:3
DTSTAMP:20260423T055352Z
URL:http://corkchamber.chambermaster.com/events/details/tips-for-online-interviews-22996
END:VEVENT

END:VCALENDAR
