BEGIN:VCALENDAR
VERSION:2.0
PRODID:-//ChamberMaster//Event Calendar 2.0//EN
METHOD:PUBLISH
X-PUBLISHED-TTL:P3D
REFRESH-INTERVAL:P3D
CALSCALE:GREGORIAN
BEGIN:VEVENT
DTSTART:20201016T180000Z
DTEND:20201017T070000Z
X-MICROSOFT-CDO-ALLDAYEVENT:FALSE
SUMMARY:Shine a Light 2020
DESCRIPTION:Focus Ireland and Bord G is Energy calls on the people of Cork to sleep-out in the fight against homelessness    \n\n \n\nThis year's Shine A Light Night is calling on people all over Cork and nationwide to sleep out for one night and raise funds to help Focus Ireland's vital services as the number of homeless adults in Cork stands at 372. Focus Ireland is proud to continue its partnership with Bord G is Energy who will again sponsor the charity's flagship fundraising campaign.  \n\n \n\nOn the night of October 16th\, as well as asking business leaders to sleep out again on Cork's historic Spike Island to help the cause\, Focus Ireland want individuals to sign up and sleep out in their gardens or homes to help raise crucial funds. As always\, since the event began in 2015\, companies around Cork can also sign up to support the initiative by pledging to fundraise and sleep out at their workplace.   \n\n \n\nSafety is paramount and in light of the COVID-19 pandemic\, Focus Ireland is working to ensure the safety of all participants and staff. The charity is prepared to host a fully virtual Shine a Light Night should government guidelines suggest doing so.\n\n \n\nFocus Ireland and Bord G is Energy are aiming to raise  1.3 million in 2020 to support people experiencing homelessness in Cork and across the country.  \n\n \n\nSpeaking at the event\, Ger Spillane\, head of Focus Ireland services for the Mid and South West region said: "Focus Ireland works tirelessly with people in Cork experiencing homelessness to help them secure their home or to ensure they leave homelessness for good. We also work extensively across the area of prevention to make sure many other families and individuals never become homeless in the first place.   \n\n \n\n"In the coming months ahead\, the support of organisations such as Bord G is Energy is crucial to make a success of fundraising events like Shine A Light Night which will raise vital funds for our services across the country."  \n\n \n\nTo date\, Shine A Light Night has raised over  5.3m for people experiencing homelessness in Ireland. In 2019\, this support enabled Focus Ireland to help over 14\,200 people.  \n\n \n\nCommenting at the launch of Shine a Light in Cobh\, Nico O Rourke\, Director of Assets & Trading at\, Bord G is Energy said: "Looking back following a challenging few months\, Bord G is Energy has never been prouder of our partnership with Focus Ireland. The team in Focus Ireland in Cork worked in very difficult circumstances to help 12 households into long-term homes in March\, April\, May and June as well as support some of the most vulnerable people in our society daily. We are as committed as ever in supporting Focus Ireland to help end homelessness and increase support for those who are on the brink of losing their home.  \n\n \n\n"We will be sleeping out on Shine A Light Night and we are asking every one of you across Ireland\; businesses\, families and individuals to join us this October in giving just one night to sleep out in your gardens\, living rooms\, workplace or at an organised sleep out in solidarity with people who face homelessness every day"  \n\n \n\nFor further information contact Dick White\, Cork Area Fundraising and Marketing Executive for Focus Ireland on 086 8223690 or at dick.white@focusireland.ie.
X-ALT-DESC;FMTTYPE=text/html:<p><span style="font-size:14px\;"><span style="font-family:arial\;"><strong>Focus Ireland and&nbsp\;</strong><strong>Bord&nbsp\;G&aacute\;is&nbsp\;Energy calls on the people of Cork to sleep-out in the fight against homelessness&nbsp\;</strong>&nbsp\;&nbsp\;&nbsp\;<br />\n&nbsp\;<br />\nThis year&rsquo\;s Shine A Light Night is calling on people all over Cork and nationwide to sleep out for one night and raise funds to help Focus Ireland&rsquo\;s vital services as the number of homeless adults in Cork stands at 372. Focus Ireland is proud to continue its partnership with Bord&nbsp\;G&aacute\;is&nbsp\;Energy who will again sponsor the charity&rsquo\;s flagship fundraising campaign.&nbsp\;&nbsp\;<br />\n&nbsp\;<br />\nOn the night of October 16<sup>th</sup>\, as well as asking business leaders to sleep out again on Cork&rsquo\;s historic Spike Island to help the cause\, Focus Ireland want individuals to sign up and sleep out in their gardens or homes to help raise crucial funds. As always\, since the event began in 2015\, companies around Cork can also sign up to support the initiative by pledging to fundraise and sleep out at their workplace.&nbsp\;&nbsp\;&nbsp\;<br />\n&nbsp\;<br />\nSafety is paramount and in light of the COVID-19 pandemic\, Focus Ireland is working to ensure the safety of all participants and staff. The charity is prepared to host a fully virtual Shine a Light Night should government guidelines suggest doing so.<br />\n&nbsp\;<br />\nFocus Ireland and Bord&nbsp\;G&aacute\;is&nbsp\;Energy are aiming to raise &euro\;1.3 million in 2020 to support people experiencing homelessness in Cork and across the country.&nbsp\;&nbsp\;<br />\n&nbsp\;<br />\nSpeaking at&nbsp\;the&nbsp\;event\, Ger Spillane\, head of Focus Ireland services for the Mid and South West region said:&nbsp\;&ldquo\;Focus Ireland works tirelessly with people in&nbsp\;Cork&nbsp\;experiencing homelessness to help them secure their home or to ensure they leave homelessness for good. We also work extensively across the area of prevention to make sure many other families and individuals never become homeless in the first place.&nbsp\;&nbsp\;&nbsp\;<br />\n&nbsp\;<br />\n&ldquo\;In the coming months ahead\, the support of&nbsp\;organisations&nbsp\;such as Bord&nbsp\;G&aacute\;is&nbsp\;Energy is crucial to make a success of fundraising events like Shine A Light Night which will raise vital funds for our services across the country.&rdquo\;&nbsp\;&nbsp\;<br />\n&nbsp\;<br />\nTo date\, Shine A Light Night has raised over &euro\;5.3m for people experiencing homelessness in Ireland. In 2019\, this support enabled Focus Ireland to help over 14\,200 people.&nbsp\;&nbsp\;<br />\n&nbsp\;<br />\nCommenting at the launch of Shine a Light in Cobh\, Nico O Rourke\, Director of Assets &amp\; Trading at\, Bord&nbsp\;G&aacute\;is&nbsp\;Energy said: &ldquo\;Looking back following a&nbsp\;challenging few months\, Bord&nbsp\;G&aacute\;is&nbsp\;Energy has never been prouder of our partnership with Focus Ireland.&nbsp\;The team in Focus Ireland in Cork worked in very difficult circumstances to help 12 households into long-term homes in March\, April\, May and June as well as support some of the most vulnerable people in our society daily. We are as committed as ever in supporting Focus Ireland to help end homelessness and increase support for those who are on the brink of losing their home.&nbsp\;&nbsp\;<br />\n&nbsp\;<br />\n&ldquo\;We will be sleeping out on Shine A Light Night and we are asking every one of you across Ireland\; businesses\, families and individuals to join us this October in giving just one night to sleep out in your gardens\, living rooms\, workplace or at an organised sleep out in solidarity with people who face homelessness every day&rdquo\;&nbsp\;&nbsp\;<br />\n&nbsp\;<br />\nFor further information contact Dick White\, Cork Area Fundraising and Marketing Executive for Focus Ireland on 086 8223690 or at&nbsp\;<a href="mailto:dick.white@focusireland.ie" target="_blank"><span style="color:#0563C1">dick.white@focusireland.ie</span></a><span style="color:#0563C1">.&nbsp\;</span>&nbsp\;<br />\n&nbsp\;</span></span><br />\n&nbsp\;</p>\n
LOCATION:Spike Island or @ Work or in Your Own Home
UID:e.2489.23045
SEQUENCE:3
DTSTAMP:20260421T043104Z
URL:http://corkchamber.chambermaster.com/events/details/shine-a-light-2020-23045
END:VEVENT

END:VCALENDAR
