BEGIN:VCALENDAR
VERSION:2.0
PRODID:-//ChamberMaster//Event Calendar 2.0//EN
METHOD:PUBLISH
X-PUBLISHED-TTL:P3D
REFRESH-INTERVAL:P3D
CALSCALE:GREGORIAN
BEGIN:VEVENT
DTSTART:20200527T130000Z
DTEND:20200527T133000Z
X-MICROSOFT-CDO-ALLDAYEVENT:FALSE
SUMMARY:Return to Work Safely Protocols – Breakdown & Advice
DESCRIPTION:This webinar has been specially organised for members by Chambers Ireland and run by Peninsula.\n\n\n\nPeninsula will cover the most important aspects of the Return to Work Safely Protocol. On May 9th the Government released new mandatory measures that affect every business and need to be understood prior to reopening so they can be implemented efficiently and followed correctly. \n\n\n\nJoin this 30 minute webinar to give you a better understanding of the requirements being asked of businesses right now.\n\n\n\nTopics to be discussed:\n\n	The most important aspects of the protocol\n	Requirements to create a Business Response Plan\n	The need to appoint and train at least one "lead worker representative" to work with you on ensuring the new protocols are followed.\n\n\n\nREGISTER NOW
X-ALT-DESC;FMTTYPE=text/html:<span style="font-family: tahoma\; font-size: 14px\; background-color: rgb(255\, 255\, 255)\;">This webinar has been specially organised for members by Chambers Ireland and run by Peninsula.</span><br />\n<br />\n<span style="font-size:14px\;"><span style="font-family:tahoma\;">Peninsula will cover the most important aspects of the Return to Work Safely Protocol.&nbsp\;<span style="background-color: rgb(255\, 255\, 255)\;">On May 9th the Government released new mandatory measures that affect every business and need to be understood prior to reopening so they can be implemented efficiently and followed correctly.&nbsp\;</span></span></span><br />\n<br />\n<span style="font-family: tahoma\; font-size: 14px\; background-color: rgb(255\, 255\, 255)\;">Join this 30 minute webinar to give you a better understanding of the requirements being asked of businesses right now.</span><br />\n<br />\n<span style="color:#000000\;"><strong><span style="font-family: sans-serif\, Arial\, Verdana\, &quot\;Trebuchet MS&quot\;\; font-size: 14px\;"><span style="font-family: tahoma\;">Topics to be discussed:</span></span></strong></span>\n<ul style="padding: 0px 40px\; color: rgb(51\, 51\, 51)\; font-family: sans-serif\, Arial\, Verdana\, &quot\;Trebuchet MS&quot\;\; font-size: 13px\;">\n	<li><span style="font-family: tahoma\;"><span style="font-size: 14px\;">The most important aspects of the protocol</span></span></li>\n	<li><span style="font-family: tahoma\;"><span style="font-size: 14px\;">Requirements to create a Business Response Plan</span></span></li>\n	<li><span style="font-family: tahoma\;"><span style="font-size: 14px\;">The need to appoint and train at least one &quot\;lead worker representative&quot\; to work with you on ensuring the new protocols are followed.</span></span></li>\n</ul>\n<br />\n<a href="http://attendee.gotowebinar.com/register/2672626201491329291"><strong><span style="color:#000000\;"><span style="font-family:tahoma\;"><span style="font-size:14px\;">REGISTER</span></span></span></strong></a><strong><span style="color:#000000\;"><span style="font-family:tahoma\;"><span style="font-size:14px\;"><a href="https://attendee.gotowebinar.com/register/2672626201491329291">&nbsp\;</a></span></span></span></strong><strong><span style="font-family:tahoma\;"><span style="font-size:14px\;"><a href="http://attendee.gotowebinar.com/register/2672626201491329291"><span style="color:#000000\;">NOW</span></a></span></span></strong><br />\n<br />\n&nbsp\;
LOCATION:Online via Webinar
UID:e.2489.22917
SEQUENCE:3
DTSTAMP:20260425T115047Z
URL:http://corkchamber.chambermaster.com/events/details/return-to-work-safely-protocols-breakdown-advice-22917
END:VEVENT

END:VCALENDAR
