BEGIN:VCALENDAR
VERSION:2.0
PRODID:-//ChamberMaster//Event Calendar 2.0//EN
METHOD:PUBLISH
X-PUBLISHED-TTL:P3D
REFRESH-INTERVAL:P3D
CALSCALE:GREGORIAN
BEGIN:VEVENT
DTSTART:20200707T120000Z
DTEND:20200707T130000Z
X-MICROSOFT-CDO-ALLDAYEVENT:FALSE
SUMMARY:Practical Steps to Write More Effectively
DESCRIPTION:Michael Furminger is a UK qualified Barrister currently transitioning to the Irish Bar. Michael has more than thirty years of experience and training in writing for professional purposes. Michael was an elected City Councillor in the UK and was called to the Bar in 1991. Over the years since then\, Michael has developed his written communication skills in politics\, legal practice and\, more recently\, in business consultancy.\n\nWhat will you learn?\n\nIn this short workshop\, Michael will provide intensely practical tips based on his insight and experience. We all have to communicate in writing at some point - despite the availability\, affordability and convenience of oral communication facilitated by modern technology.\n\nThere is a huge variety in written communication   from the very formal and important to the very casual and unimportant   but there are skills and techniques relevant to all forms of writing.\n\nThis Workshop is intended for anyone seeking to improve their ability to communicate in writing more effectively.\n\nAfter briefly establishing a context for written communication   including its advantages and disadvantages\, its different purposes and forms   the Workshop will focus on practical tools\, techniques and tips. The emphasis will not be on rules and conventions as such (of grammar or otherwise) but strictly on the function of communication.
X-ALT-DESC;FMTTYPE=text/html:<p><span style="font-size:14px\;">Michael Furminger is a UK qualified Barrister currently transitioning to the Irish Bar. Michael has more than thirty years of experience and training in writing for professional purposes. Michael was an elected City Councillor in the UK and was called to the Bar in 1991. Over the years since then\, Michael has developed his written communication skills in politics\, legal practice and\, more recently\, in business consultancy.</span></p>\n\n<p style="text-align: center\;"><span style="font-size:14px\;">What will you learn?</span></p>\n\n<p><span style="font-size:14px\;">In this short workshop\, Michael will provide intensely practical tips based on his insight and experience. We all have to communicate in writing at some point - despite the availability\, affordability and convenience of oral communication facilitated by modern technology.<br />\nThere is a huge variety in written communication &ndash\; from the very formal and important to the very casual and unimportant &ndash\; but there are skills and techniques relevant to all forms of writing.<br />\nThis Workshop is intended for anyone seeking to improve their ability to communicate in writing more effectively.<br />\nAfter briefly establishing a context for written communication &ndash\; including its advantages and disadvantages\, its different purposes and forms &ndash\; the Workshop will focus on practical tools\, techniques and tips. The emphasis will not be on rules and conventions as such (of grammar or otherwise) but strictly on the function of communication.</span></p>\n
LOCATION:Webinar\, please register here
UID:e.2489.22966
SEQUENCE:3
DTSTAMP:20260422T143613Z
URL:http://corkchamber.chambermaster.com/events/details/practical-steps-to-write-more-effectively-22966
END:VEVENT

END:VCALENDAR
