BEGIN:VCALENDAR
VERSION:2.0
PRODID:-//ChamberMaster//Event Calendar 2.0//EN
METHOD:PUBLISH
X-PUBLISHED-TTL:P3D
REFRESH-INTERVAL:P3D
CALSCALE:GREGORIAN
BEGIN:VEVENT
DTSTART:20201111T123000Z
DTEND:20201111T133000Z
X-MICROSOFT-CDO-ALLDAYEVENT:FALSE
SUMMARY:Networking Masterclass with Sian Horn
DESCRIPTION:Learn how to build a network that will advance your career over Zoom.\n\n\n\nWith over 30 years of experience\, Sian has worked with startups\, small businesses and larger companies on various projects. Sian has experienced a great amount of success in attaining the results her clients need. She has used her honest\, straight-talking approach to build a strong personal brand. Her network has come from her passion for business and her drive to help others succeed.\n\n\n\nYour personal brand is the greatest asset in your journey toward success. Learn how to use it to your advantage to build a strong network which will guide you on your path to success.\n\nSian will share her experiences building her network\, her main do's and don'ts that will add value to how you create connections while discussing the benefits thereafter of having a strong network of support.
X-ALT-DESC;FMTTYPE=text/html:<span style="font-size:14px\;"><span style="font-family:arial\;">Learn how to build a network that will advance your career over Zoom.<br />\n<br />\nWith over 30 years of experience\, Sian has worked with startups\, small businesses and larger companies on various projects.&nbsp\;Sian has experienced a great amount of success in attaining the results her clients need. She has used her honest\, straight-talking approach to build a strong personal brand. Her network has come from her passion for business and her drive to help others succeed.<br />\n<br />\nYour personal brand is the greatest asset in your journey toward success. Learn how to use it to your advantage to build a strong network which will guide you on your path to success.<br />\nSian will share her experiences building her network\, her main do&rsquo\;s and don&rsquo\;ts that will add value to how you create connections while discussing the benefits thereafter of having a strong network of support.</span></span>
LOCATION:Republic of Work Zoom Webinar
UID:e.2489.23081
SEQUENCE:3
DTSTAMP:20260421T183030Z
URL:http://corkchamber.chambermaster.com/events/details/networking-masterclass-with-sian-horn-23081
END:VEVENT

END:VCALENDAR
