BEGIN:VCALENDAR
VERSION:2.0
PRODID:-//ChamberMaster//Event Calendar 2.0//EN
METHOD:PUBLISH
X-PUBLISHED-TTL:P3D
REFRESH-INTERVAL:P3D
CALSCALE:GREGORIAN
BEGIN:VEVENT
DTSTART:20201202T083000Z
DTEND:20201202T100000Z
X-MICROSOFT-CDO-ALLDAYEVENT:FALSE
SUMMARY:Network Cork AGM 2020
DESCRIPTION:Join Network Ireland Cork Branch for our annual AGM. The agenda is as follows:\n\n\n\n  President Report 2020\n\n  Membership Report 2020\n\n  Treasurer Report 2020\n\n  Election of the 2021 Committee
X-ALT-DESC;FMTTYPE=text/html:<span style="font-size:14px\;"><span style="font-family:arial\;">Join Network Ireland Cork Branch for our annual AGM. The agenda is as follows:<br />\n<br />\n&ndash\; President Report 2020<br />\n&ndash\; Membership Report 2020<br />\n&ndash\; Treasurer Report 2020<br />\n&ndash\; Election of the 2021 Committee&nbsp\;</span></span>
LOCATION:Online via zoom
UID:e.2489.23088
SEQUENCE:3
DTSTAMP:20260419T163435Z
URL:http://corkchamber.chambermaster.com/events/details/network-cork-agm-23088
END:VEVENT

END:VCALENDAR
