BEGIN:VCALENDAR
VERSION:2.0
PRODID:-//ChamberMaster//Event Calendar 2.0//EN
METHOD:PUBLISH
X-PUBLISHED-TTL:P3D
REFRESH-INTERVAL:P3D
CALSCALE:GREGORIAN
BEGIN:VEVENT
DTSTART:20200730T100000Z
DTEND:20200730T113000Z
X-MICROSOFT-CDO-ALLDAYEVENT:FALSE
SUMMARY:Fostering Innovation & Continuous Improvement
DESCRIPTION:In a fast-changing business environment\, innovation and continuous improvement are essential to any business. Don't miss the opportunity to gain confidence in your innovative ideas and help them grow. \n\n\n\nThis webinar will examine and improve business processes that will drive fresh approaches and ideas that will see a return in business. It will give participants the tools and techniques to develop a culture of positive change and creative solutions that will drive innovation across the business.\nTopic to be covered:\n\n\n\n1. Techniques in Disruption and Innovation\n\n2. Principles of Performance Communication\n\n3. Principles of Mentoring and Coaching\n\n4. Opportunities for Development\n\n5. Continuous Improvement in Self and Others\n\n\n\nREGISTER HERE
X-ALT-DESC;FMTTYPE=text/html:<p style="box-sizing: border-box\; margin: 0.85em 0px\; padding: 0px\; border: 0px rgb(235\, 235\, 235)\; font-variant-numeric: inherit\; font-variant-east-asian: inherit\; font-stretch: inherit\; font-size: 16px\; line-height: inherit\; font-family: Catamaran\, sans-serif\; vertical-align: baseline\; background-color: rgb(255\, 255\, 255)\;"><span style="font-size:14px\;"><span style="font-family:tahoma\;"><span style="background-color: rgb(255\, 255\, 255)\;">In a fast-changing business environment\, innovation and continuous improvement are essential to any business. Don&#39\;t miss the opportunity to gain confidence in your innovative ideas and help them grow.&nbsp\;<br />\n<br />\nThis webinar will examine and improve business processes that will drive fresh approaches and ideas that will see a return in business. It will give&nbsp\;participants the&nbsp\;tools and techniques to&nbsp\;develop a culture of positive change and creative solutions that will drive innovation across the business.</span></span></span></p>\n<span style="font-size:14px\;"><span style="font-family:tahoma\;"><span style="color:#000000\;"><strong>Topic to be covered:</strong></span></span></span>\n\n<div style="box-sizing: border-box\; margin: 0px\; padding: 0px\; border: 0px rgb(235\, 235\, 235)\; font: inherit\; vertical-align: baseline\;"><br />\n<span style="font-size:14px\;"><span style="font-family:tahoma\;">1. Techniques in Disruption and Innovation<br style="box-sizing: border-box\;" />\n2. Principles of Performance Communication<br style="box-sizing: border-box\;" />\n3. Principles of Mentoring and Coaching<br style="box-sizing: border-box\;" />\n4. Opportunities for Development<br style="box-sizing: border-box\;" />\n5. Continuous Improvement in Self and Others</span></span><br />\n<br />\n<strong style="font-family: tahoma\; font-size: 14px\; font-style: inherit\; font-variant-ligatures: inherit\; font-variant-caps: inherit\;"><a href="https://www.corkchamber.ie/course/free-online-webinar-fostering-innovation-continuous-improvement/"><span style="color:#000000\;">REGISTER HERE</span></a></strong></div>\n\n<div class="course-content is-summary " style="box-sizing: border-box\; margin: 0px\; padding: 0px\; border: 0px rgb(235\, 235\, 235)\; font: inherit\; vertical-align: baseline\;box-sizing: border-box\; margin: 0px\; padding: 0px\; border: 0px rgb(235\, 235\, 235)\; font-variant-numeric: inherit\; font-variant-east-asian: inherit\; font-stretch: inherit\; font-size: 16px\; line-height: inherit\; font-family: Catamaran\, sans-serif\; vertical-align: baseline\; height: 500px\; overflow-y: hidden\;">&nbsp\;</div>\n
LOCATION:Online
UID:e.2489.22989
SEQUENCE:3
DTSTAMP:20260422T024133Z
URL:http://corkchamber.chambermaster.com/events/details/fostering-innovation-continuous-improvement-22989
END:VEVENT

END:VCALENDAR
