BEGIN:VCALENDAR
VERSION:2.0
PRODID:-//ChamberMaster//Event Calendar 2.0//EN
METHOD:PUBLISH
X-PUBLISHED-TTL:P3D
REFRESH-INTERVAL:P3D
CALSCALE:GREGORIAN
BEGIN:VEVENT
DTSTART:20211009T120000Z
DTEND:20211009T130000Z
X-MICROSOFT-CDO-ALLDAYEVENT:FALSE
SUMMARY:Callino Quartet
DESCRIPTION:The Callino Quartet was formed at the West Cork Chamber Music Festival in 1999 and went on to enjoy a successful international career\, including winning second prize in the 2008 Tromp International String Quartet in the Netherlands.\n\n \n\nTheir programme includes Debussy's magnificent\, luscious\, string quartet.\n\n \n\nCALLINO QUARTET\n\nHelena Winkelman\n\nTom Hankey\n\nRebecca Jones\n\nSarah McMahon\n\n \n\nPROGRAMME\n\nHaydn   Quartet Op.50 No.6 'Frog'\n\nSiobhan Cleary   Carrowkeel\n\nDebussy   Quartet
X-ALT-DESC;FMTTYPE=text/html:<p><span style="font-size:14px\;"><span style="font-family:arial\;">The Callino Quartet was formed at the West Cork Chamber Music Festival in 1999 and went on to enjoy a successful international career\, including winning second prize in the 2008 Tromp International String Quartet in the Netherlands.<br />\n&nbsp\;<br />\nTheir programme includes Debussy&rsquo\;s magnificent\, luscious\, string quartet.<br />\n&nbsp\;<br />\n<strong>CALLINO QUARTET</strong><br />\nHelena Winkelman<br />\nTom Hankey<br />\nRebecca Jones<br />\nSarah McMahon<br />\n&nbsp\;<br />\n<strong>PROGRAMME</strong><br />\nHaydn &ndash\; Quartet Op.50 No.6 &lsquo\;Frog&rsquo\;<br />\nSiobhan Cleary &ndash\; Carrowkeel<br />\nDebussy &ndash\; Quartet</span></span></p>\n
LOCATION:Triskel Christchurch Triskel Arts Centre Tobin Street Cork
UID:e.2489.23682
SEQUENCE:3
DTSTAMP:20260425T035218Z
URL:http://corkchamber.chambermaster.com/events/details/callino-quartet-23682
END:VEVENT

END:VCALENDAR
