BEGIN:VCALENDAR
VERSION:2.0
PRODID:-//ChamberMaster//Event Calendar 2.0//EN
METHOD:PUBLISH
X-PUBLISHED-TTL:P3D
REFRESH-INTERVAL:P3D
CALSCALE:GREGORIAN
BEGIN:VEVENT
DTSTART:20251023T163000Z
DTEND:20251023T180000Z
X-MICROSOFT-CDO-ALLDAYEVENT:FALSE
SUMMARY:Act VC Networking Mixer
DESCRIPTION:ACT VC: Office Hours & Mixer with Mairead Roche\n\n?Connect directly with ACT VC during their Office Hours at Republic of Work. \n\n\n\nJoin us for a two-part event designed to connect ambitious startups with ACT VC\, one of Ireland's leading venture capital firms.\n\n?Kick off the afternoon with 1:1 Office Hour sessions and get tailored feedback from Mairead Roche (ACT VC) on your pitch\, growth strategy\, and investor readiness. There are 6 office hour slots available\, complete this registration form to be considered for selection.\n\n?The evening mixer begins at 5:30 PM\, featuring a live Q&A with ACT VC. Whether you're actively fundraising or simply exploring what investors look for\, this is your chance to learn\, connect\, and grow.\n\n??? Spaces are limited\,  sign up now to secure your spot at the mixer!  (Don't forget to fill out the registration form for the 1:1 office hours!)
X-ALT-DESC;FMTTYPE=text/html:<h1><span style="font-size:14px\;"><span style="font-family:arial\;">ACT VC: Office Hours &amp\; Mixer with Mairead Roche</span></span></h1>\n\n<p><span style="font-size:14px\;"><span style="font-family:arial\;">?Connect directly with ACT VC during their Office Hours at Republic of Work.&nbsp\;<br />\n<br />\nJoin us for a&nbsp\;two-part event&nbsp\;designed to connect ambitious startups with&nbsp\;ACT VC\,&nbsp\;one of Ireland&rsquo\;s leading venture capital firms.</span></span></p>\n\n<p><span style="font-size:14px\;"><span style="font-family:arial\;">?Kick off the afternoon with&nbsp\;1:1 Office Hour sessions&nbsp\;and get tailored feedback from <strong>Mairead Roche (ACT VC)</strong> on your pitch\, growth strategy\, and investor readiness. There are 6 office hour slots available\, complete&nbsp\;<a href="https://airtable.com/appOXsGYclmmc4tso/shrJ1BopJcBqheXdj?prefill_Event=recaeygFNEk8PlBC8" rel="nofollow noopener" style="box-sizing: border-box\; text-decoration: none\; color: var(--brand-color)\; cursor: pointer\; transition: var(--transition)\; border-bottom: 1px solid var(--brand-pale-bg-color)\; margin-bottom: 0px\;" target="_blank">this registration form</a>&nbsp\;to be considered for selection.</span></span></p>\n\n<p><span style="font-size:14px\;"><span style="font-family:arial\;">?The&nbsp\;<strong>evening mixer&nbsp\;begins at&nbsp\;5:30 PM\, featuring a live Q&amp\;A with ACT VC</strong>. Whether you&rsquo\;re actively fundraising or simply exploring what investors look for\, this is your chance to learn\, connect\, and grow.</span></span></p>\n\n<p><span style="font-size:14px\;"><span style="font-family:arial\;">??? Spaces are limited\,&nbsp\; sign up now to secure your spot at the mixer!&nbsp\; (Don&rsquo\;t forget to fill out the registration form for the 1:1 office hours!)</span></span></p>\n
LOCATION:12 South Mall\, Cork\, T12 RD43
UID:e.2489.35321
SEQUENCE:3
DTSTAMP:20260426T000722Z
URL:http://corkchamber.chambermaster.com/events/details/act-vc-networking-mixer-35321
END:VEVENT

END:VCALENDAR
